BEGIN:VCALENDAR
VERSION:2.0
PRODID:-//Similes - ECPv6.15.20//NONSGML v1.0//EN
CALSCALE:GREGORIAN
METHOD:PUBLISH
X-ORIGINAL-URL:https://associationsimiles.org
X-WR-CALDESC:Évènements pour Similes
REFRESH-INTERVAL;VALUE=DURATION:PT1H
X-Robots-Tag:noindex
X-PUBLISHED-TTL:PT1H
BEGIN:VTIMEZONE
TZID:UTC
BEGIN:STANDARD
TZOFFSETFROM:+0000
TZOFFSETTO:+0000
TZNAME:UTC
DTSTART:20250101T000000
END:STANDARD
END:VTIMEZONE
BEGIN:VEVENT
DTSTART;TZID=UTC:20260302T173000
DTEND;TZID=UTC:20260302T193000
DTSTAMP:20260420T230004
CREATED:20260127T133358Z
LAST-MODIFIED:20260127T133358Z
UID:3070-1772472600-1772479800@associationsimiles.org
SUMMARY:Soirée d'échanges - Groupe local Similes Wallonie de Charleroi
DESCRIPTION:
URL:https://associationsimiles.org/event/soiree-dechanges-groupe-local-similes-wallonie-de-charleroi/
LOCATION:Espace Santé\, Bd Zoé Drion 1\, 6000 Charleroi\, Charleroi\, 6000\, Belgium
END:VEVENT
END:VCALENDAR