BEGIN:VCALENDAR
VERSION:2.0
PRODID:-//Similes - ECPv6.15.20//NONSGML v1.0//EN
CALSCALE:GREGORIAN
METHOD:PUBLISH
X-ORIGINAL-URL:https://associationsimiles.org
X-WR-CALDESC:Évènements pour Similes
REFRESH-INTERVAL;VALUE=DURATION:PT1H
X-Robots-Tag:noindex
X-PUBLISHED-TTL:PT1H
BEGIN:VTIMEZONE
TZID:UTC
BEGIN:STANDARD
TZOFFSETFROM:+0000
TZOFFSETTO:+0000
TZNAME:UTC
DTSTART:20250101T000000
END:STANDARD
END:VTIMEZONE
BEGIN:VEVENT
DTSTART;TZID=UTC:20260519T090000
DTEND;TZID=UTC:20260519T090000
DTSTAMP:20260420T182310
CREATED:20260209T111249Z
LAST-MODIFIED:20260410T082517Z
UID:3080-1779181200-1779181200@associationsimiles.org
SUMMARY:Colloque des 25 ans de Similes Wallonie asbl
DESCRIPTION:  \n \n \nInscription : inscription@similes.org ou 04/344.45.45
URL:https://associationsimiles.org/event/colloque-des-25-ans-de-similes-wallonie-asbl/
LOCATION:La Bourse de Namur\, Place d'Armes 1\, Namur\, 5000\, Belgium
END:VEVENT
END:VCALENDAR