BEGIN:VCALENDAR
VERSION:2.0
PRODID:-//Similes - ECPv6.15.20//NONSGML v1.0//EN
CALSCALE:GREGORIAN
METHOD:PUBLISH
X-ORIGINAL-URL:https://associationsimiles.org
X-WR-CALDESC:Évènements pour Similes
REFRESH-INTERVAL;VALUE=DURATION:PT1H
X-Robots-Tag:noindex
X-PUBLISHED-TTL:PT1H
BEGIN:VTIMEZONE
TZID:UTC
BEGIN:STANDARD
TZOFFSETFROM:+0000
TZOFFSETTO:+0000
TZNAME:UTC
DTSTART:20250101T000000
END:STANDARD
END:VTIMEZONE
BEGIN:VEVENT
DTSTART;TZID=UTC:20260602T130000
DTEND;TZID=UTC:20260602T163000
DTSTAMP:20260420T211836
CREATED:20260410T081226Z
LAST-MODIFIED:20260410T084354Z
UID:3132-1780405200-1780417800@associationsimiles.org
SUMMARY:Supervision pour les professionnels de la santé mentale à Namur
DESCRIPTION:
URL:https://associationsimiles.org/event/supervision-pour-les-professionnels-de-la-sante-mentale-a-namur/
LOCATION:Luss Namur\, Av. Sergent Vrithoff 123\, Namur\, 5000\, Belgique
END:VEVENT
END:VCALENDAR